BEGIN:VCALENDAR
VERSION:2.0
PRODID:-//Squarespace Inc/Squarespace 6//v6//EN
BEGIN:VEVENT
UID:601238820629090c6abb7994@squarespace.com
DTSTAMP:20210128T041322Z
DTSTART:20210306T040000Z
DTEND:20210306T060000Z
SUMMARY:Afternoon Delights: The EJT
GEO:-33.712839;150.312151
LOCATION:Avalon Restaurant\, 18 Katoomba Street\, Katoomba\, NSW\, 2780\, A
 ustralia
END:VEVENT
END:VCALENDAR
