BEGIN:VCALENDAR
VERSION:2.0
PRODID:-//Squarespace Inc/Squarespace 6//v6//EN
BEGIN:VEVENT
UID:601236375b19d96d2a4039f9@squarespace.com
DTSTAMP:20210223T022501Z
DTSTART:20210313T040000Z
DTEND:20210313T060000Z
SUMMARY:Afternoon Delights: Epizo (SOLD OUT)
GEO:-33.712839;150.312151
LOCATION:Avalon Restaurant\, 18 Katoomba Street\, Katoomba\, NSW\, 2780\, A
 ustralia
END:VEVENT
END:VCALENDAR
