BEGIN:VCALENDAR
VERSION:2.0
PRODID:-//Squarespace Inc/Squarespace 6//v6//EN
BEGIN:VEVENT
UID:5fe3307e13880e2835390c4c@squarespace.com
DTSTAMP:20210107T014614Z
DTSTART:20210327T080000Z
DTEND:20210327T100000Z
SUMMARY:Piano Parlour: Matt Dennett and Pam Withnall
GEO:-33.712829;150.312149
LOCATION:Avalon Restaurant\, 18-24 Katoomba St\, KATOOMBA
END:VEVENT
END:VCALENDAR
